BEGIN:VCALENDAR
VERSION:2.0
PRODID:Imitheme.com 
BEGIN:VEVENT
UID:20260423T1524271286801729
DTSTAMP;TZID=UTC:2026-04-23 15:24:27
DTSTART;TZID=America/Los_Angeles:20260423T152427
DTEND;TZID=America/Los_Angeles:20260423T152427
SUMMARY:Seeking Avalon Within Intensive - USA
LOCATION:
DESCRIPTION:- Location: North Rose, NY - April 24 - 28, 2024 The Sisterhood of Avalon has been presenting our powerful, immersive Avalonian Training Intensives in North America and Great Britain since 1998. These four-day residential intensives provide women with the opportunity to learn Avalonian ritual, techniques, tools, and philosophy in an experiential and supportive environment. Come to connect with the Goddesses of Avalon, immerse yourself in the transformational spiritual traditions of the Celtic Britons, and learn how to heal and empower yourself as you align with the Cycles of the Universe. Seeking Avalon Within is for all women seeking the Ways of Avalon. For newcomers to the Goddess Path, it is an excellent starting point; for women who have been engaged in this journeying, it is sure to deepen connections both with the Lady and with the self, from an empowering Avalonian perspective. Seeking Avalon Within presents the foundation work needed for all of the SOA’s Intensive offerings, and is open to all women, members and non-members alike. Download the Intensives general info packet for more info. Register for 2024 US intensives here. Please send any questions to intensives@sisterhoodofavalon.org. Hope to see you there!
URL:https://sisterhoodofavalon.org/eventer/seeking-avalon-within-intensive/
END:VEVENT
END:VCALENDAR
